Workbook
Name _Hlk202350150: 'Page 2 '!$A$29
Name OLE_LINK3: 'Page 2 '!$E$4

Sheet Page 1
A1: RESERVED FOR MUNICIPALITY USE
A2: M-PPD-L State of CT OPM
A3: 2026 Declaration of Personal Property
A4: Filing Requirement – This Declaration must be filed with the Assessor of the municipality where the personal property is located. Declarations of Personal Property shall be made annually. If you no longer own the above noted business or personal property assessed in your name last year, you do not need to complete the full Declaration. You must return the affidavit below to the Assessor and provide information related to the name of the new owner of the property or the date your business ceased or to where you moved the business (see the Affidavit below). Otherwise, the Assessor must assume that you still own and are operating the business and have failed to declare your taxable personal property.
A5: Affidavit of Business Termination or Move or Sale of Business or Property
A6: I | D6: of | F6: at
B7: Business or property owners name | E7: Business Name (if applicable) | G7: Street location in municipality
B8: With regards to said business or property I do certify that on __________________ | F8: Said business or property was (Please check appropriate box):
E9: Date
A10:  | B10: Sold to:
B11: Name | G11: Address
A12:  | B12: Moved to:
B13: Municipality and State to where business or property was moved | G13: Address
A14:  | B14: Terminated: | C14: Attach Bill of Sale or Letter of Dissolution to this form and return it with this affidavit to the Assessor’s office
B15: The signer is made aware that the penalty for making a false affidavit is a $500.00 fine or imprisonment for one year or both.
B16: Signature | E16: Print name
A18: Penalty for late filing – The Declaration of Personal Property must be signed and delivered or postmarked to the Assessor of this municipality no later than Monday, November 2, 2026 to avoid a 25% Penalty for failure to file. Deadline to File: November 2, 2026

Sheet Page 2 
A1: INSTRUCTIONS
A2: Pursuant to CGS §12-63, the Assessor must determine the “present true and actual value” and in determining such value may use the accepted methods of comparable sales, cost less depreciation and income capitalization. Not all sections are applicable to every business. Please read the following instructions and complete all relevant sections.
A33: Example of how to complete the tables on pages 5 and 6
B34: #16 - Furniture, fixtures and equipment
A35: How should the following be declared? | B35: Year Ending | C35: Original cost, installation & transportation | F35: % Good | G35: Depreciated Value | H35: Assessor's Use Only
B36: 46296 | F36: 0.95
A37: June 2025, you bought a desk for $800 and a chair for $200. You have a filing cabinet and printer that you bought 10 years ago for $2000 that is being used in your business. See the table to the right for the answer. | B37: 45931 | C37: 1000 | F37: 0.9 | G37: 900
B38: 45566 | F38: 0.8
B39: 45200 | F39: 0.7
B40: 44835 | F40: 0.6
B41: 44470 | F41: 0.5
B42: 44105 | F42: 0.4
B43: Prior Yrs | C43: 2000 | F43: 0.3 | G43: 600
B44: Total | C44: 3000 | F44: Total | G44: 1500 | H44: #16 1500

Sheet Page 3
A1: 2026 Declaration of Personal Property Commercial and financial information is not open to public inspection. | G1: Assessment date October 1, 2026 Required return date November 2, 2026
A2: List or Account #: | G2: Owner’s Name:
A3: Location (street & number) | G3: DBA:
A5: Business Data For businesses, occupations, professions, farmers, lessors Answer all questions 1 through 12, writing N/A on lines that are not applicable.
A6: 1. Direct questions concerning return to - | G6: 2. Location of accounting records -
A7: Name
A8: Address
A9: Town/State/Zip
A10: Phone
A11: E-mail
A12: 3. Description of Business
A13: 4. How many employees work in your facilities in this municipality only?
A14: 5. Date your business began in this municipality?
A15: 6. How many square feet does your firm occupy at your location(s) in this municipality? | I15: Sq. ft. | L15: Own  Lease 
A16: 7. Type of ownership: | B16:  Corporation  Partnership  LLC  Sole proprietor  Other-Describe
A17: 8. Type of business: | B17:  Manufacturer  Wholesale  Service  Profession  Retail/Mercantile  Tradesman  Lessor
B18:  Other-Describe | G18: IRS Business Activity Code
A19: 9. In the last 12 months was any of the property included in this Declaration located in another Connecticut municipality for at least 3 months? If yes, identify by specific months, code, cost, and location(s). | L19: Yes | N19: No
A21: 10. Are there any other business operations that are operating from your address here in this municipality? If yes, give name and mailing address.
A22: 11. Do you own tangible personal property that is leased or consigned to others in this municipality? If yes, complete Lessor’s Listing Report (below)
A23: 12. Did you have in your possession on October 1st any borrowed, consigned, stored or rented property? If yes, complete Lessee’s Listing Report (page 4)
A25: LESSOR’S LISTING REPORT In order to avoid duplication of assessments related to leased personal property, the following must be completed by Lessors: (Please note that property under conditional sales agreements must be reported by the lessor.) Computerized filings are acceptable if all information is reported in prescribed format.
C26: Lessee #1 | F26: Lessee #2 | I26: Lessee #3
A27: Name of Lessee
A28: Lessee’s address
A29: Physical location of equipment
A30: Full equipment description
A31: Is equipment self-manufactured? | C31: Yes  No  | F31: Yes  No  | I31: Yes  No 
A32: Acquisition date
A33: Current commercial list price new
A34: Has this lease ever been purchased, assumed or assigned? | C34: Yes  No  | F34: Yes  No  | I34: Yes  No 
A35: If yes, specify from whom
A36: Date of such purchase, etc.
A37: If the original asset cost was changed by this transaction, give details.
A38: Type of lease | C38:  Operating  Capital  Conditional Sale | F38: Operating Capital Conditional Sale | I38: Operating Capital Conditional Sale
A39: Lease Term – Begin and end dates
A40: Monthly contract rent
A41: Monthly maintenance costs if included in the monthly payment above
A42: Is equipment declared on the Lessor’s or the Lessee’s manufacturing exemption application? | C42: Yes  No  | D42: Lessor  | E42: Lessee  | F42: Yes  No  | G42: Lessor  | H42: Lessee  | I42: Yes  No  | K42: Lessor  | M42: Lessee 

Sheet Page 4
A1: List or Account #: | D1: =IF('Page 3'!B2="","",'Page 3'!B2) | F1: Owner’s Name: | G1: =IF('Page 3'!I2="","",'Page 3'!I2)
A3: Lessee’s Listing Report - Pursuant to CGS §12-57a all leased, borrowed, consigned, loaned, rented, or stored personal property not owned by you but in your possession as of the assessment date must be included on this form. Failure to declare, in the form and manner as herein prescribed, shall result in the presumption of ownership and subsequent tax liability plus penalties. Property you do not lease that may be in your possession and must be reported includes (but is not limited to) dumpsters, gas/propane tanks, vending machines, water coolers, coffee machines.
A6: Yes | B6: No
A7: q | B7: q | C7: Did you dispose of any leased items that were in your possession on October 1, 2025? If yes, enter a description of the property and the date of disposition in the space to the right.
A8: q | B8: q | C8: Did you acquire any of the leased items that were in your possession on October 1, 2025? If yes, indicate previous lessor, item(s) and date(s) acquired in the space to the right.
A9: q | B9: q | C9: Is the cost of any of the equipment listed below declared anywhere else on this Declaration? If yes, note year in the ‘Year Included’ row and list cost in the ‘Acquisition Cost’ row.
D10: Lease #1 | F10: Lease #2 | G10: Lease #3
A11: Name of Lessor
A12: Lessor's Address
A13: Phone Number
A14: Lease Number
A15: Item Description/Model#
A16: Serial #
A17: Year of Manufacture
A18: Capital Lease | D18: Yes q No q | F18: Yes q No q | G18: Yes q No q
A19: Lease Term - Beginning/End
A20: Monthly Rent
A21: Acquisition Cost
A22: Year Included
A23: Disposal, Sale or Transfer of Property Report
A24: Disposal, sale or transfer of property – If you disposed of, sold or transferred a portion of the property included in last year’s filing, complete the Detailed Listing of Disposed Assets Report and Reconciliation of Fixed Assets on page 6. If you no longer own the business noted on the cover sheet you do not need to complete this Declaration. You must, however, return to the Assessor this Declaration along with the complete Affidavit of Business Closing or Move of Business or Sale of Business found in this return. DO NOT INCLUDE DISPOSALS IN THE TAXABLE PROPERTY REPORTING SECTION.
A26: Detailed Listing of Disposed ASSETS (copy and attach additional sheets if needed)
A27: Removal Date | C27: Code # | D27: Description of Item | F27: Acquisition Date | G27: Acquisition Cost
A35: Detailed Listing of Assets Having an Original Value Less Than $250 (copy and attach additional sheets if needed)
A36: Pursuant to CGS §12-81(79) – Listing of assets purchased prior to 10/1/2016 with an original value less than or equal to $250
A37: Description | F37: Acquired Date | G37: Acquisition Cost
A40: Taxable Property Information

Sheet Page 5
A1: List or Account #: | C1: =IF('Page 3'!B2="","",'Page 3'!B2) | G1: Owner’s Name: | I1: =IF('Page 3'!I2="","",'Page 3'!I2)
A2: # 9 – Motor Vehicles: Unregistered motor vehicles & vehicles garaged in Connecticut but registered in another state | G2: #10 – Manufacturing Machinery & Equipment not eligible under CGS §12-81 (76) (MM&E) for exemption | M2: Assessor Use only
B3: Vehicle 1 | C3: Vehicle 2 | E3: Vehicle 3 | G3: Year Ending | H3: Installed historical cost including transportation | J3: % Good | K3: Depreciated Value
A4: Year | G4: 46296 | J4: 0.9 | K4: =IF(+H4*J4=0,"",H4*J4)
A5: Make | G5: 45931 | J5: 0.8 | K5: =IF(+H5*J5=0,"",H5*J5)
A6: Model | G6: 45566 | J6: 0.7 | K6: =IF(+H6*J6=0,"",H6*J6)
A7: VIN | G7: 45200 | J7: 0.6 | K7: =IF(+H7*J7=0,"",H7*J7)
A8: Length | G8: 44835 | J8: 0.5 | K8: =IF(+H8*J8=0,"",H8*J8)
A9: Weight | G9: 44470 | J9: 0.4 | K9: =IF(+H9*J9=0,"",H9*J9)
A10: Purchase $ | G10: 44105 | J10: 0.3 | K10: =IF(+H10*J10=0,"",H10*J10)
A11: Date | G11: Prior Yrs | J11: 0.2 | K11: =IF(+H11*J11=0,"",H11*J11) | M11: #9
A12: MSRP | G12: Total | H12: =IF(SUM(H4:I11)=0,"",SUM(H4:I11)) | J12: Total | K12: =IF(SUM(K4:L11)=0,"",SUM(K4:L11)) | M12: =CONCATENATE("#10 ",IFERROR(TEXT(ROUND(K12,1),"#,##0"),"")) -> #10
A14: #11 – Horses and Ponies | G14: #12 – Commercial Fishing Apparatus
B15: #1 | C15: #2 | E15: #3 | G15: Year Ending | H15: Installed historical cost including transportation | J15: % Good | K15: Depreciated Value
A16: Breed
A17: Registered | G17: 46296 | J17: 0.95 | K17: =IF(+H17*J17=0,"",H17*J17)
A18: Age | G18: 45931 | J18: 0.9 | K18: =IF(+H18*J18=0,"",H18*J18)
A19: Sex | G19: 45566 | J19: 0.8 | K19: =IF(+H19*J19=0,"",H19*J19)
A20: Quality | G20: 45200 | J20: 0.7 | K20: =IF(+H20*J20=0,"",H20*J20)
A21: Breeding | G21: 44835 | J21: 0.6 | K21: =IF(+H21*J21=0,"",H21*J21)
A22: Show | G22: 44470 | J22: 0.5 | K22: =IF(+H22*J22=0,"",H22*J22)
A23: Pleasure | G23: 44105 | J23: 0.4 | K23: =IF(+H23*J23=0,"",H23*J23)
A24: Racing | G24: Prior Yrs | J24: 0.3 | K24: =IF(+H24*J24=0,"",H24*J24) | M24: #11
A25: Value | G25: Total | H25: =IF(SUM(H17:I24)=0,"",SUM(H17:I24)) | J25: Total | K25: =IF(SUM(K17:L24)=0,"",SUM(K17:L24)) | M25: =CONCATENATE("#12 ",IFERROR(TEXT(ROUND(K25,1),"#,##0"),"")) -> #12
A26: Value
A27: #13 – Manufacturing Machinery & Equipment eligible for exemption under CGS §12-81(76) – Must file exempt claim. | G27: #14 – Mobile Manufactured Homes if not currently assessed as real estate
A28: Year Ending | B28: Installed historical cost including transportation | D28: % Good | E28: Depreciated Value | H28: #1 | I28: #2 | K28: #3
A29: 46296 | D29: 0.9 | E29: =IF(+B29*D29=0,"",B29*D29) | G29: Year
A30: 45931 | D30: 0.8 | E30: =IF(+B30*D30=0,"",B30*D30) | G30: Make
A31: 45566 | D31: 0.7 | E31: =IF(+B31*D31=0,"",B31*D31) | G31: Model
A32: 45200 | D32: 0.6 | E32: =IF(+B32*D32=0,"",B32*D32) | G32: ID Number
A33: 44835 | D33: 0.5 | E33: =IF(+B33*D33=0,"",B33*D33) | G33: Length
A34: 44470 | D34: 0.4 | E34: =IF(+B34*D34=0,"",B34*D34) | G34: Width
A35: 44105 | D35: 0.3 | E35: =IF(+B35*D35=0,"",B35*D35) | G35: Bedrooms
A36: Prior Yrs | D36: 0.2 | E36: =IF(+B36*D36=0,"",B36*D36) | G36: Baths | M36: =CONCATENATE("#13 ",IFERROR(TEXT(ROUND(E37,1),"#,##0"),"")) -> #13
A37: Total | B37: =IF(SUM(B29:C36)=0,"",SUM(B29:C36)) | D37: Total | E37: =IF(SUM(E29:F36)=0,"",SUM(E29:F36)) | G37: Value | M37: #14
A39: #16 - Furniture, Fixtures and Equipment | G39: #17 – Farm Machinery
A40: Year Ending | B40: Installed historical cost including transportation | D40: % Good | E40: Depreciated Value | G40: Year Ending | H40: Installed historical cost including transportation | J40: % Good | K40: Depreciated Value
A41: 46296 | D41: 0.95 | E41: =IF(+B41*D41=0,"",B41*D41) | G41: 46296 | J41: 0.95 | K41: =IF(+H41*J41=0,"",H41*J41)
A42: 45931 | D42: 0.9 | E42: =IF(+B42*D42=0,"",B42*D42) | G42: 45931 | J42: 0.9 | K42: =IF(+H42*J42=0,"",H42*J42)
...

Sheet Page 6
A1: ="List or Account#: "&'Page 3'!B2&REPT("_",20-LEN('Page 3'!B2)) -> List or Account#: ____________________ | F1: ="Owner's Name: "&'Page 3'!I2&REPT("_",25-LEN('Page 3'!I2)) -> Owner's Name: _________________________
A3: #20a – Computer and Peripheral Hardware per CGS 12-63(b)(3)(A)- Group I | F3: # 20b – Other Hardware: Main and Mini Frame Computer Systems Not Technologically Advanced per CGS 12-63(b)(3)(B) – Group II | K3: Assessor Use only
A4: Year Ending | B4: Installed historical cost including transportation | C4: % Good | D4: Depreciated Value | F4: Year Ending | G4: Installed historical cost including transportation | H4: % Good | I4: Depreciated Value
A5: 46296 | C5: 0.7 | D5: =IF(+B5*C5=0,"",B5*C5) | F5: 46296 | H5: 0.9 | I5: =IF(+G5*H5=0,"",G5*H5)
A6: 45931 | C6: 0.4 | D6: =IF(+B6*C6=0,"",B6*C6) | F6: 45931 | H6: 0.6 | I6: =IF(+G6*H6=0,"",G6*H6)
A7: 45566 | C7: 0.2 | D7: =IF(+B7*C7=0,"",B7*C7) | F7: 45566 | H7: 0.4 | I7: =IF(+G7*H7=0,"",G7*H7)
A8: Prior yrs | C8: 0.1 | D8: =IF(+B8*C8=0,"",B8*C8) | F8: 45200 | H8: 0.2 | I8: =IF(+G8*H8=0,"",G8*H8)
A9: Total | B9: =IF(SUM(B5:B8)=0,"",SUM(B5:B8)) | C9: Total | D9: =IF(SUM(D5:D8)=0,"",SUM(D5:D8)) | F9: Prior Yrs | H9: 0.1 | I9: =IF(+G9*H9=0,"",G9*H9)
F10: Total | G10: =IF(SUM(G6:G9)=0,"",SUM(G6:G9)) | H10: Total | I10: =IF(SUM(I5:I9)=0,"",SUM(I5:I9))
G11: 20a and 20b Total | I11: =IFERROR(SUM(D9,I10),"") -> 0 | K11: =CONCATENATE("#20 ",IF(OR(I11="",I11=0),"",TEXT(ROUND(I11,1),"#,##0"))) -> #20
A13: #21a Telecommunications Equipment Not Technologically Advanced | F13: #21b Other Office and Medical Testing Equipment Considered Technologically Advanced per CGS 12-63(b)(4)
A14: Year Ending | B14: Installed historical cost including transportation | C14: % Good | D14: Depreciated Value | F14: Year Ending | G14: Installed historical cost including transportation | H14: % Good | I14: Depreciated Value
A15: 46296 | C15: 0.95 | D15: =IF(+B15*C15=0,"",B15*C15) | F15: 46296 | H15: 0.95 | I15: =IF(+G15*H15=0,"",G15*H15)
A16: 45931 | C16: 0.9 | D16: =IF(+B16*C16=0,"",B16*C16) | F16: 45931 | H16: 0.8 | I16: =IF(+G16*H16=0,"",G16*H16)
A17: 45566 | C17: 0.8 | D17: =IF(+B17*C17=0,"",B17*C17) | F17: 45566 | H17: 0.6 | I17: =IF(+G17*H17=0,"",G17*H17)
A18: 45200 | C18: 0.7 | D18: =IF(+B18*C18=0,"",B18*C18) | F18: 45200 | H18: 0.4 | I18: =IF(+G18*H18=0,"",G18*H18)
A19: 44835 | C19: 0.6 | D19: =IF(+B19*C19=0,"",B19*C19) | F19: Prior Yrs | H19: 0.2 | I19: =IF(+G19*H19=0,"",G19*H19)
A20: 44470 | C20: 0.5 | D20: =IF(+B20*C20=0,"",B20*C20) | F20: Total | G20: =IF(SUM(G15:G19)=0,"",SUM(G15:G19)) | H20: Total | I20: =IF(SUM(I15:I19)=0,"",SUM(I15:I19))
A21: 44105 | C21: 0.4 | D21: =IF(+B21*C21=0,"",B21*C21)
A22: Prior Yrs | C22: 0.3 | D22: =IF(+B22*C22=0,"",B22*C22)
A23: Total | B23: =IF(SUM(B15:B22)=0,"",SUM(B15:B22)) | C23: Total | D23: =IF(SUM(D15:D22)=0,"",SUM(D15:D22)) | G23: 21a and 21b Total | I23: =SUM(D23,I20) -> 0 | K23: =CONCATENATE("#21 ",IF(OR(I23="",I23=0),"",TEXT(ROUND(I23,1),"#,##0"))) -> #21
A25: # 22 - Cables, Conduits, Pipes, Class 1 Renewables, etc. | F25: # 23 - Average Quantity of Supplies Consumed -The average is the total amount expended on supplies since October 1, 2025 divided by the number of months in business since October 1, 2025.
A26: Year Ending | B26: Installed historical cost including transportation | C26: % Good | D26: Depreciated Value
A27: 46296
A28: 45931 | F28: Year Ending | G28: Total Expended | H28: # of months | I28: Averages Monthly
A29: 45566
A30: 45200 | F30: 46295 | I30: =IFERROR(IF(G30/H30=0,"",G30/H30),"")
A31: 44835
A32: 44470 | F32: If you are expensing items under IRS Code 178 (which allows you to fully deduct qualifying property), do not include them in Code 23. List them in the proper category where they would normally belong if they were not expensed under Code 178.
A33: 44105
A34: Prior Yrs | K34: =CONCATENATE("#22 ",IFERROR(TEXT(ROUND(D35,1),"#,##0"),"")) -> #22
A35: Total | B35: =IF(SUM(B27:B34)=0,"",SUM(B27:B34)) | D35: =IF(SUM(D27:D34)=0,"",SUM(D27:D34)) | K35: =CONCATENATE("#23 ",IFERROR(TEXT(ROUND(I30,1),"#,##0"),"")) -> #23
A36: Check here if a FERC or PURA regulated utility q
A38: #24a - All Other Goods, Chattels and Effects | F38: #24b - Rental Entertainment Medium
A39: Year Ending | B39: Installed historical cost including transportation | C39: % Good | D39: Depreciated Value | F39: Year Ending | G39: Installed historical cost including transportation | H39: % Good | I39: Depreciated Value
A40: 46296 | C40: 0.95 | D40: =IF(+B40*C40=0,"",B40*C40) | F40: 46296 | H40: 0.95 | I40: =IF(+G40*H40=0,"",G40*H40)
A41: 45931 | C41: 0.9 | D41: =IF(+B41*C41=0,"",B41*C41) | F41: 45931 | H41: 0.8 | I41: =IF(+G41*H41=0,"",G41*H41)
A42: 45566 | C42: 0.8 | D42: =IF(+B42*C42=0,"",B42*C42) | F42: 45566 | H42: 0.6 | I42: =IF(+G42*H42=0,"",G42*H42)
A43: 45200 | C43: 0.7 | D43: =IF(+B43*C43=0,"",B43*C43) | F43: 45200 | H43: 0.4 | I43: =IF(+G43*H43=0,"",G43*H43)
A44: 44835 | C44: 0.6 | D44: =IF(+B44*C44=0,"",B44*C44) | F44: Prior Yrs | H44: 0.2 | I44: =IF(+G44*H44=0,"",G44*H44)
...

Sheet Page 7
A1: 2026 Declaration of Personal Property – Summary Sheet Commercial and financial information is not open to public inspection. | B1: Assessment date October 1, 2026 Required return date November 2, 2026
A2: ="List or Account#: "&'Page 3'!B2&REPT("_",20-LEN('Page 3'!B2))&"Owner's Name: "&'Page 3'!I2&REPT("_",25-LEN('Page 3'!I2)) -> List or Account#: ____________________Owner's Name: _________________________
A3: ="DBA: "&'Page 3'!H3&REPT("_",20-LEN('Page 3'!B2))&"Location (Number & Street): "&'Page 3'!B3&REPT("_",25-LEN('Page 3'!I2)) -> DBA: ____________________Location (Number & Street): _________________________
A4: Mailing Address:_________________________________________Town, State, ZIP: ______________________________________
A6: Property Code and Description | B6: Net Depreciated Value pages 5 & 6 | C6: Code | D6: Assessor's Use Only Assessments
A7: #9 - Motor Vehicles: Unregistered motor vehicles (e.g. motor homes, tent or truck campers, travel trailers, snowmobiles, utility trailers, passenger cars, tractors, off-road construction vehicles, etc.) including any vehicle garaged in Connecticut but registered in another state. Snowmobiles, ATV’s, or residential utility trailers used exclusively for personal use are not to be reported under CGS §12-81 (82). | C7: #9 | D7: =IF(B7*0.7=0,"",B7*0.7)
A8: #10 – Industrial Manufacturing Machinery & Equipment: Industrial manufacturing machinery and equipment (e.g., tools, dies, jigs, patterns, etc.). Include air and water pollution control equipment. Not included under CGS §12-81 (76). | B8: =IF('Page 5'!K12=0,"",'Page 5'!K12) | C8: #10 | D8: =IFERROR(IF(B8*0.7=0,"",B8*0.7),"")
A9: #11 Horses And Ponies: Describe your horses and ponies. A $1,000 assessment exemption per animal will be applied. If you are a farmer, the exemption may be 100% provided Form M-28 is filed with and approved by the Assessor. | C9: #11 | D9: =IF(B9*0.7=0,"",B9*0.7)
A10: #12 - Commercial Fishing Apparatus: All fishing apparatus exclusively used by a commercial fisherman in the business (e.g., fishing poles, nets, lobster pots, fish finders, etc.). A $500 value exemption will be applied. | B10: =IF('Page 5'!K25=0,"",'Page 5'!K25) | C10: #12 | D10: =IFERROR(IF(B10*0.7=0,"",B10*0.7),"")
A11: #13 –Manufacturing Machinery & Equipment: Manufacturing machinery and equipment used in manufacturing; used in research or engineering devoted to manufacturing; or used for the significant servicing or overhauling of industrial machinery or factory products and eligible for exemption under CGS §12-81 (76). | B11: =IF('Page 5'!E37=0,"",'Page 5'!E37) | C11: #13 | D11: =IFERROR(IF(B11*0.7=0,"",B11*0.7),"")
A12: #14 Mobile Manufactured Homes: if not currently assessed as real estate | C12: #14 | D12: =IF(B12*0.7=0,"",B12*0.7)
A13: #16 – Furniture, Fixtures and Equipment: Furniture, fixtures and equipment of all commercial, industrial, manufacturing, mercantile, trading and all other businesses, occupations and professions. Examples: desks, chairs, tables, file cabinets, typewriters, calculators, telephone answering machines, postage meters, cash registers, moveable air conditioners, partitions, shelving display racks, refrigerators, freezers, kitchen equipment, etc. | B13: =IF('Page 5'!E49=0,"",'Page 5'!E49) | C13: #16 | D13: =IFERROR(IF(B13*0.7=0,"",B13*0.7),"")
A14: #17 - Farm Machinery: Farm machinery (e.g., tractors, harrows, brush hogs, hay bines, hay rakes, balers, corn choppers, milking machines, milk tanks, coolers, chuck wagons, dozers, back hoes, hydroponic farm equipment, aquaculture equipment, etc.), used in the operation of a farm. | B14: =IF('Page 5'!K49=0,"",'Page 5'!K49) | C14: #17 | D14: =IFERROR(IF(B14*0.7=0,"",B14*0.7),"")
A15: #18 - Farming Tools: Farm tools (e.g., hoes, rakes, pitch forks, shovels, hoses, brooms, etc.). | B15: =IF('Page 5'!E61=0,"",'Page 5'!E61) | C15: #18 | D15: =IFERROR(IF(B15*0.7=0,"",B15*0.7),"")
A16: #19 - Mechanics Tools: Mechanics tools (e.g., wrenches, air hammers, jacks, sockets, etc.). | B16: =IF('Page 5'!K61=0,"",'Page 5'!K61) | C16: #19 | D16: =IFERROR(IF(B16*0.7=0,"",B16*0.7),"")
A17: #20a - Computer and peripheral hardware, including, but not limited to, personal computers, workstations, terminals, storage devices, printers, scanners, computer peripherals and networking equipment; bundled software | B17: =IF('Page 6'!D9=0,"",'Page 6'!D9) | C17: #20a | D17: =IFERROR(IF(B17*0.7=0,"",B17*0.7),"")
A18: #20b – Other Hardware: Mini-frame and main-frame computer systems with an acquisition cost of more than $25,000. See CGS §12-63(b)(3)(B) – Group II. | B18: =IF('Page 6'!I10=0,"",'Page 6'!I10) | C18: #20b | D18: =IFERROR(IF(B18*0.7=0,"",B18*0.7),"")
A19: #21a - Telecommunications Equipment: Excluding furniture, fixtures, and computers. Includes cables, conduits, antennae, batteries, generators or any equipment not deemed technologically advanced by the Assessor. | B19: =IF('Page 6'!D23=0,"",'Page 6'!D23) | C19: #21a | D19: =IFERROR(IF(B19*0.7=0,"",B19*0.7),"")
A20: #21b - Technologically Advanced Equipment: Copiers, facsimile (fax) machines, medical testing equipment, and similar technologically advanced equipment that is not electronic data processing equipment. Do not report computers in this category. See CGS §12-63(b)(4). | B20: =IF('Page 6'!I20=0,"",'Page 6'!I20) | C20: #21b | D20: =IFERROR(IF(B20*0.7=0,"",B20*0.7),"")
A21: #22 - Cables, conduits, pipes, poles, towers (if not currently assessed as real estate), underground mains, wires, turbines, Class I Renewables, Cylinder and other Tanks of gas, heating, or energy producing companies, telephone companies, water and water power companies. Include items annexed to the ground (e.g., hydraulic car lifts, gasoline holding tanks, pumps, truck scales, etc.), as well as property used for the purpose of creating or furnishing a supply of water (e.g. pumping stations). | B21: =IF('Page 6'!D35=0,"",'Page 6'!D35) | C21: #22 | D21: =IFERROR(IF(B21*0.7=0,"",B21*0.7),"")
A22: #23 – Average Quantity of Supplies Consumed: The average monthly quantity of supplies normally consumed in the course of business (e.g., stationery, post-it notes, toner, computer disks, computer paper, pens, pencils, rulers, staplers, paper clips, medical and dental supplies and maintenance supplies, etc.). | B22: =IF('Page 6'!I30=0,"",'Page 6'!I30) | C22: #23 | D22: =IFERROR(IF(B22*0.7=0,"",B22*0.7),"")
A23: #24 – All Other Goods, Chattels and Effects: Any other taxable personal property not previously mentioned, or which does not appear to fit into any of the other categories. (e.g., video tapes, vending machines, pinball games, video games, signs, billboards, coffee makers, water coolers, leasehold improvements and construction in progress (CIP). | B23: =IF('Page 6'!I48=0,"",'Page 6'!I48) | C23: #24 | D23: =IFERROR(IF(B23*0.7=0,"",B23*0.7),"")
A24: Total Net Depreciated and Assessment – all codes #9 through #24 Subtotal > | B24: =SUM(B7:B23) -> 0 | D24: =SUM(D7:D23) -> 0
A25: #25 – Personal Property Penalty for failure to file as required by statute – 25% of assessment | C25: #25 | D25: =IF(B25*0.7=0,"",B25*0.7)
A26: Exemption - Check box adjacent to the exemption you are claiming:
A27: c I – Farming Tools - $500 value c I – Horses/ponies $1000 assessment per animal c I – Mechanic’s Tools - $500 value
A28: c K – Municipal Leased c M – Commercial Fishing Apparatus - $500 value
A29: All of the following exemptions require a separate application and/or certificate to be filed with the Assessor by the required return date:
A30: c G & H – Distressed Municipality/Enterprise Zone/Enterprise Corridor Zone - Exemption application M-55 required annually
A31: c I – Farm Machinery $250,000 assessed value - Exemption application M-28 required annually (CGS §12-91)
A32: c J – Class I Renewable - Exemption Application M-44 required.
A33: c J – Water Pollution or Air Pollution control equipment – Connecticut DEEP certificate required – provide copy
A34: c U – Manufacturing Machinery & Equipment Claim Form - Exemption claim required annually
A35: Assessor’s Final Assessment Total >

Sheet Page 8
A1: ="List or Account#: "&'Page 3'!B2&REPT("_",20-LEN('Page 3'!B2)) -> List or Account#: ____________________ | G1: Assessment date October 1, 2026
A2: ="Owner's Name: "&'Page 3'!I2&REPT("_",25-LEN('Page 3'!I2)) -> Owner's Name: _________________________ | G2: Required return date November 2, 2026
B3: Declaration of Personal Property Affidavit THIS FORM MUST BE SIGNED (AND IN SOME CASES WITNESSED) BEFORE IT MAY BE FILED WITH THE ASSESSOR. AVOID PENALTY – IMPROPERLY SIGNED DECLARATIONS REQUIRE A 25% PENALTY Complete Section A or Section B
B4: Section A
B6: OWNER: I DO HEREBY declare under penalty of false statement that all sections of this Declaration have been completed according to the best of my knowledge, remembrance, and belief; that it is a true statement of all my personal property liable to taxation; and that I have not conveyed or temporarily disposed of any estate for the purpose of evading the laws relating to the assessment and collection of taxes as per CGS §12-49.
C7: SEE PAGE TWO (2) FOR SIGNATURE REQUIREMENTS.
B8: CHECK ONE | C8: q | D8: OWNER | E8: q | F8: PARTNER
C9: q | D9: CORPORATE OFFICER | E9: q | F9: MEMBER
B10: Owner Signature | F10: Dated
C11: Signature/Title
D12: Print or type name
B13: Section B
B15: AGENT: I DO HEREBY declare under oath that I have been duly appointed agent for the owner of the property listed herein and that I have full authority and knowledge sufficient to file a proper Declaration for him in accord with the provisions of CGS §12-50.
B16: Agent’s Signature | F16: Dated
C17: Agent’s Signature /Title
C18: Print or type agent’s name
B20: AGENT SIGNATURE MUST BE WITNESSED
B21: Witness of agent’s sworn statement
B22: Subscribed and sworn to before me | F22: Dated
B23: Assessor or staff member, Municipal Clerk, Justice of the Peace, Notary or Commissioner of Superior Court
A25: For questions concerning this Declaration, contact the Assessor’s Office at:
A27: RESERVED FOR MUNICIPAL USE | G27: Check Off List:
G28:  Read instructions on page 2
G29:  Complete appropriate sections
G30:  Complete exemption applications
G31:  Sign & date as required on page 8
G32:  Make a copy for your records
G33:  Return by November 2, 2026
A35: Notes:
A46: The Declaration of Personal Property must be signed and delivered or postmarked to the Assessor of this municipality no later than November 2, 2026 to avoid a 25% Penalty for failure to file.
